BEGIN:VCALENDAR
VERSION:2.0
PRODID:-//US Fightleague - ECPv6.15.20//NONSGML v1.0//EN
CALSCALE:GREGORIAN
METHOD:PUBLISH
X-WR-CALNAME:US Fightleague
X-ORIGINAL-URL:https://fightleague.org
X-WR-CALDESC:Events for US Fightleague
REFRESH-INTERVAL;VALUE=DURATION:PT1H
X-Robots-Tag:noindex
X-PUBLISHED-TTL:PT1H
BEGIN:VTIMEZONE
TZID:America/Los_Angeles
BEGIN:DAYLIGHT
TZOFFSETFROM:-0800
TZOFFSETTO:-0700
TZNAME:PDT
DTSTART:20220313T100000
END:DAYLIGHT
BEGIN:STANDARD
TZOFFSETFROM:-0700
TZOFFSETTO:-0800
TZNAME:PST
DTSTART:20221106T090000
END:STANDARD
BEGIN:DAYLIGHT
TZOFFSETFROM:-0800
TZOFFSETTO:-0700
TZNAME:PDT
DTSTART:20230312T100000
END:DAYLIGHT
BEGIN:STANDARD
TZOFFSETFROM:-0700
TZOFFSETTO:-0800
TZNAME:PST
DTSTART:20231105T090000
END:STANDARD
BEGIN:DAYLIGHT
TZOFFSETFROM:-0800
TZOFFSETTO:-0700
TZNAME:PDT
DTSTART:20240310T100000
END:DAYLIGHT
BEGIN:STANDARD
TZOFFSETFROM:-0700
TZOFFSETTO:-0800
TZNAME:PST
DTSTART:20241103T090000
END:STANDARD
END:VTIMEZONE
BEGIN:VEVENT
DTSTART;TZID=America/Los_Angeles:20230527T090000
DTEND;TZID=America/Los_Angeles:20230527T150000
DTSTAMP:20260422T053459
CREATED:20230406T185815Z
LAST-MODIFIED:20230410T153911Z
UID:4849-1685178000-1685199600@fightleague.org
SUMMARY:Big D Beatdown #2 - Grand Prairie\, TX
DESCRIPTION:Register on Smoothcomp \nQuestions –  Lionsdenpromotionllc@gmail.com  \nThe State of Texas has not approved Full Power Strikes for any Youth Martial Art Competition aside from Boxing and Kickboxing. *** Special Texas rules will require less than best effort in body strikes / not using 100% power. All other safety rules to include no head strikes still apply. \n  \n  \n 
URL:https://fightleague.org/event/big-d-beatdown-2-grand-prairie-tx/
LOCATION:CA
CATEGORIES:USA - Central
END:VEVENT
END:VCALENDAR