BEGIN:VCALENDAR
VERSION:2.0
PRODID:-//US Fightleague - ECPv6.15.20//NONSGML v1.0//EN
CALSCALE:GREGORIAN
METHOD:PUBLISH
X-ORIGINAL-URL:https://fightleague.org
X-WR-CALDESC:Events for US Fightleague
REFRESH-INTERVAL;VALUE=DURATION:PT1H
X-Robots-Tag:noindex
X-PUBLISHED-TTL:PT1H
BEGIN:VTIMEZONE
TZID:America/Los_Angeles
BEGIN:DAYLIGHT
TZOFFSETFROM:-0800
TZOFFSETTO:-0700
TZNAME:PDT
DTSTART:20230312T100000
END:DAYLIGHT
BEGIN:STANDARD
TZOFFSETFROM:-0700
TZOFFSETTO:-0800
TZNAME:PST
DTSTART:20231105T090000
END:STANDARD
BEGIN:DAYLIGHT
TZOFFSETFROM:-0800
TZOFFSETTO:-0700
TZNAME:PDT
DTSTART:20240310T100000
END:DAYLIGHT
BEGIN:STANDARD
TZOFFSETFROM:-0700
TZOFFSETTO:-0800
TZNAME:PST
DTSTART:20241103T090000
END:STANDARD
BEGIN:DAYLIGHT
TZOFFSETFROM:-0800
TZOFFSETTO:-0700
TZNAME:PDT
DTSTART:20250309T100000
END:DAYLIGHT
BEGIN:STANDARD
TZOFFSETFROM:-0700
TZOFFSETTO:-0800
TZNAME:PST
DTSTART:20251102T090000
END:STANDARD
END:VTIMEZONE
BEGIN:VEVENT
DTSTART;TZID=America/Los_Angeles:20240428T153000
DTEND;TZID=America/Los_Angeles:20240428T170000
DTSTAMP:20260421T195228
CREATED:20240422T023209Z
LAST-MODIFIED:20240422T023229Z
UID:5684-1714318200-1714323600@fightleague.org
SUMMARY:Proving Grounds\, Los Angeles\, CA
DESCRIPTION:Featuring 3 USFL Youth Bouts\nContact Rachel Perez to get matched
URL:https://fightleague.org/event/proving-grounds-los-angeles-ca/
CATEGORIES:USA - Western
END:VEVENT
END:VCALENDAR