BEGIN:VCALENDAR
VERSION:2.0
PRODID:-//US Fightleague - ECPv6.15.20//NONSGML v1.0//EN
CALSCALE:GREGORIAN
METHOD:PUBLISH
X-ORIGINAL-URL:https://fightleague.org
X-WR-CALDESC:Events for US Fightleague
REFRESH-INTERVAL;VALUE=DURATION:PT1H
X-Robots-Tag:noindex
X-PUBLISHED-TTL:PT1H
BEGIN:VTIMEZONE
TZID:America/Los_Angeles
BEGIN:DAYLIGHT
TZOFFSETFROM:-0800
TZOFFSETTO:-0700
TZNAME:PDT
DTSTART:20220313T100000
END:DAYLIGHT
BEGIN:STANDARD
TZOFFSETFROM:-0700
TZOFFSETTO:-0800
TZNAME:PST
DTSTART:20221106T090000
END:STANDARD
BEGIN:DAYLIGHT
TZOFFSETFROM:-0800
TZOFFSETTO:-0700
TZNAME:PDT
DTSTART:20230312T100000
END:DAYLIGHT
BEGIN:STANDARD
TZOFFSETFROM:-0700
TZOFFSETTO:-0800
TZNAME:PST
DTSTART:20231105T090000
END:STANDARD
BEGIN:DAYLIGHT
TZOFFSETFROM:-0800
TZOFFSETTO:-0700
TZNAME:PDT
DTSTART:20240310T100000
END:DAYLIGHT
BEGIN:STANDARD
TZOFFSETFROM:-0700
TZOFFSETTO:-0800
TZNAME:PST
DTSTART:20241103T090000
END:STANDARD
END:VTIMEZONE
BEGIN:VEVENT
DTSTART;VALUE=DATE:20230318
DTEND;VALUE=DATE:20230319
DTSTAMP:20260422T051126
CREATED:20221015T212253Z
LAST-MODIFIED:20230210T031614Z
UID:4568-1679097600-1679183999@fightleague.org
SUMMARY:Valkyrie Fighting Championships (Female) - San Diego\, CA
DESCRIPTION:All Female MMA\, Youth and Adult bouts\nEmail matchmaker Rachel Perez or call 626 392-1563 for consideration on matched for adult or youth.\nGet annual youth Fighters and Youth Coach license HERE\n 
URL:https://fightleague.org/event/valkyrie-fighting-championships-female-san-diego-ca/
LOCATION:CA
CATEGORIES:USA - Western
END:VEVENT
BEGIN:VEVENT
DTSTART;VALUE=DATE:20230325
DTEND;VALUE=DATE:20230326
DTSTAMP:20260422T051126
CREATED:20230105T202646Z
LAST-MODIFIED:20230221T192702Z
UID:4692-1679702400-1679788799@fightleague.org
SUMMARY:Warrior Promotions - Plano\, TX
DESCRIPTION:  \nSend Age\, weight and experience to Lionsdenpromotionllc@gmail.com \nor register on Smoothcomp\nGet annual youth Fighters and Youth Coach license HERE\n$50 participation fee \nThe State of Texas has not approved Full Power Strikes for any Youth Martial Art Competition aside from Boxing and Kickboxing. *** Special Texas rules will require less than best effort in body strikes / not using 100% power. All other safety rules to include no head strikes still apply. \n 
URL:https://fightleague.org/event/warrior-promotions-plano-tx/
LOCATION:CA
CATEGORIES:USA - Central
END:VEVENT
END:VCALENDAR